BEGIN:VCALENDAR
VERSION:2.0
PRODID:-//Elena Nahum Leroy - ECPv6.15.20//NONSGML v1.0//EN
CALSCALE:GREGORIAN
METHOD:PUBLISH
X-ORIGINAL-URL:https://elenanl.com
X-WR-CALDESC:Events for Elena Nahum Leroy
REFRESH-INTERVAL;VALUE=DURATION:PT1H
X-Robots-Tag:noindex
X-PUBLISHED-TTL:PT1H
BEGIN:VTIMEZONE
TZID:UTC
BEGIN:STANDARD
TZOFFSETFROM:+0000
TZOFFSETTO:+0000
TZNAME:UTC
DTSTART:20240101T000000
END:STANDARD
END:VTIMEZONE
BEGIN:VEVENT
DTSTART;VALUE=DATE:20250731
DTEND;VALUE=DATE:20251003
DTSTAMP:20260423T231442
CREATED:20250724T001438Z
LAST-MODIFIED:20250724T001438Z
UID:21683-1753920000-1759449599@elenanl.com
SUMMARY:Visual Dreams
DESCRIPTION:Along with three other wonderful artists\, my seven oil and gouache paintings will be on display this fall at the St. Laurent complex. Some pieces will be priced much lower than I normally set to clear the inventory for my new creations!
URL:https://elenanl.com/event/visual-dreams/
LOCATION:St-Laurent Complex\, 525 Côté Street\, Ottawa\, ON\, K1K 0Z8\, Canada
CATEGORIES:Art Show
ATTACH;FMTTYPE=image/jpeg:https://elenanl.com/wp-content/uploads/2025/07/Visual-Dreams.jpg
END:VEVENT
BEGIN:VEVENT
DTSTART;VALUE=DATE:20250827
DTEND;VALUE=DATE:20251013
DTSTAMP:20260423T231442
CREATED:20250822T234458Z
LAST-MODIFIED:20250822T234458Z
UID:21756-1756252800-1760313599@elenanl.com
SUMMARY:Les Forces de la nature
DESCRIPTION:Magnificent\, majestic\, and intriguing\, the forces of nature are uncontrollable\, and at times they unleash with an intensity we did not know they possessed. \nConvinced that art is a powerful way to inspire us to take action\, and certain that we must do everything we can to protect this world in peril\, the artists of the Visual Arts group of Gatineau offer works that allow us to see\, think\, and feel what we urgently need to fully grasp:the splendour of the world around us\, the beauties of nature\, but also its harshness\, its violence\, and its fragility.
URL:https://elenanl.com/event/les-forces-de-la-nature/
LOCATION:Centre Culturel Du Vieux-Aylmer\, 120 Principale St\, Gatineau\, Quebec\, J9H 3M3\, Canada
CATEGORIES:Art Show
ATTACH;FMTTYPE=image/jpeg:https://elenanl.com/wp-content/uploads/2025/08/Les-Forces-de-la-nature-2.jpg
END:VEVENT
BEGIN:VEVENT
DTSTART;VALUE=DATE:20250908
DTEND;VALUE=DATE:20251026
DTSTAMP:20260423T231442
CREATED:20251003T032302Z
LAST-MODIFIED:20251003T032302Z
UID:21777-1757289600-1761436799@elenanl.com
SUMMARY:Conversation
DESCRIPTION:Over 10 new collages and linoprints\, along with handmade cards\, are presented in ArtHub Gallery.
URL:https://elenanl.com/event/conversation/
LOCATION:Art Hub\, 127 Bridge St\, Carleton Place\, Ontario\, K7C 2V6\, Canada
CATEGORIES:Art Show
ATTACH;FMTTYPE=image/jpeg:https://elenanl.com/wp-content/uploads/2025/10/Conversation.jpg
END:VEVENT
BEGIN:VEVENT
DTSTART;VALUE=DATE:20251006
DTEND;VALUE=DATE:20251104
DTSTAMP:20260423T231442
CREATED:20251003T031019Z
LAST-MODIFIED:20251003T031019Z
UID:21773-1759708800-1762214399@elenanl.com
SUMMARY:Haute Couture
DESCRIPTION:One of my recent collages was selected for the Haute Couture art show organized by OMMA – Ottawa Mixed Media Artists Association. \nVernissage – Oct 7\, 2025 5.30-7.30 pm \nI’ll be unable to come\, unfortunately.
URL:https://elenanl.com/event/haute-couture/
LOCATION:Alliance Française Ottawa\, 352 Mackaren St\, Ottawa\, ON\, K2P 0M6\, Canada
CATEGORIES:Art Show
ATTACH;FMTTYPE=image/jpeg:https://elenanl.com/wp-content/uploads/2025/10/Haute-Couture.jpg
END:VEVENT
BEGIN:VEVENT
DTSTART;VALUE=DATE:20251018
DTEND;VALUE=DATE:20251020
DTSTAMP:20260423T231442
CREATED:20250413T014053Z
LAST-MODIFIED:20250413T014053Z
UID:21531-1760745600-1760918399@elenanl.com
SUMMARY:Capital Steampunk Show - Enchanted Forest
DESCRIPTION:Exhibition of multiple creations in the Steampunk style! Fun for the whole family with a lot of extraordinary exhibitors and activities.
URL:https://elenanl.com/event/capital-steampunk-show-enchanted-forest/
LOCATION:Galeries Aylmer\, 181 Rue Principale\, Gatineau\, Quebec\, J9H 6A6\, Canada
CATEGORIES:Art Show
ATTACH;FMTTYPE=image/jpeg:https://elenanl.com/wp-content/uploads/2025/04/Capital-Steampunk-Show-Enchanted-Forest.jpg
END:VEVENT
END:VCALENDAR