BEGIN:VCALENDAR
VERSION:2.0
PRODID:-//Elena Nahum Leroy - ECPv6.15.20//NONSGML v1.0//EN
CALSCALE:GREGORIAN
METHOD:PUBLISH
X-WR-CALNAME:Elena Nahum Leroy
X-ORIGINAL-URL:https://elenanl.com
X-WR-CALDESC:Events for Elena Nahum Leroy
REFRESH-INTERVAL;VALUE=DURATION:PT1H
X-Robots-Tag:noindex
X-PUBLISHED-TTL:PT1H
BEGIN:VTIMEZONE
TZID:UTC
BEGIN:STANDARD
TZOFFSETFROM:+0000
TZOFFSETTO:+0000
TZNAME:UTC
DTSTART:20240101T000000
END:STANDARD
END:VTIMEZONE
BEGIN:VEVENT
DTSTART;VALUE=DATE:20251006
DTEND;VALUE=DATE:20251104
DTSTAMP:20260423T212906
CREATED:20251003T031019Z
LAST-MODIFIED:20251003T031019Z
UID:21773-1759708800-1762214399@elenanl.com
SUMMARY:Haute Couture
DESCRIPTION:One of my recent collages was selected for the Haute Couture art show organized by OMMA – Ottawa Mixed Media Artists Association. \nVernissage – Oct 7\, 2025 5.30-7.30 pm \nI’ll be unable to come\, unfortunately.
URL:https://elenanl.com/event/haute-couture/
LOCATION:Alliance Française Ottawa\, 352 Mackaren St\, Ottawa\, ON\, K2P 0M6\, Canada
CATEGORIES:Art Show
ATTACH;FMTTYPE=image/jpeg:https://elenanl.com/wp-content/uploads/2025/10/Haute-Couture.jpg
END:VEVENT
BEGIN:VEVENT
DTSTART;TZID=UTC:20251108T100000
DTEND;TZID=UTC:20251109T163000
DTSTAMP:20260423T212906
CREATED:20251003T034243Z
LAST-MODIFIED:20251003T034243Z
UID:21790-1762596000-1762705800@elenanl.com
SUMMARY:Itty Bitty
DESCRIPTION:53 artists and artisans will be participating in the Arts Carleton Place annual $200 and under Itty Bitty Artisan & Art Show.\nA portion of the sales will support Arts Carleton Place’s Bursary Program. Come celebrate our 20th Anniversary show on November 8th and 9th at the Carleton Place Arena\, from 10:00 am to 4:30 pm each day. Admission is free\, parking is free\, and there will be great door prizes. \nWin a gift certificate worth $200\, $100 or $50. They are transferable and have no expiry date\, plus you need not be present to win. This unique festive season show is the best in the Ottawa Valley with the greatest selection of original local artwork anywhere. Buy local! \nI’ll be there with my collages and cards. \n 
URL:https://elenanl.com/event/itty-bitty/
LOCATION:Carleton Place Arena\, 75 Neelin St\, Carleton Place\, ON\, K7C 4H1\, Canada
CATEGORIES:Art Show
ATTACH;FMTTYPE=image/jpeg:https://elenanl.com/wp-content/uploads/2025/10/Itty-Bitty-2.jpg
END:VEVENT
BEGIN:VEVENT
DTSTART;VALUE=DATE:20251115
DTEND;VALUE=DATE:20251224
DTSTAMP:20260423T212906
CREATED:20251118T025134Z
LAST-MODIFIED:20251118T025134Z
UID:21867-1763164800-1766534399@elenanl.com
SUMMARY:Twinkling Hearts
DESCRIPTION:My fresh collages and handmade Christmas cards at Art Hub Gallery in Carleton Place.
URL:https://elenanl.com/event/twinkling-hearts/
LOCATION:Art Hub\, 127 Bridge St\, Carleton Place\, Ontario\, K7C 2V6\, Canada
CATEGORIES:Art Show
ATTACH;FMTTYPE=image/jpeg:https://elenanl.com/wp-content/uploads/2025/11/twinkling-hearts.jpg
END:VEVENT
BEGIN:VEVENT
DTSTART;VALUE=DATE:20251124
DTEND;VALUE=DATE:20260303
DTSTAMP:20260423T212906
CREATED:20251030T021233Z
LAST-MODIFIED:20251030T021233Z
UID:21820-1763942400-1772495999@elenanl.com
SUMMARY:Haute Couture at D'OMMA
DESCRIPTION:One of my recent collages was selected for the Haute Couture art show organized by OMMA – Ottawa Mixed Media Artists Association. I’ll present two recent collages: Khryunya Haute Couture and Zaytsev.
URL:https://elenanl.com/event/haute-couture-at-domma/
LOCATION:D’OMMA Gallery\, 1701 Woodroffe Ave\, Nepean\, ON\, K2G 1W2\, Canada
CATEGORIES:Art Show
ATTACH;FMTTYPE=image/jpeg:https://elenanl.com/wp-content/uploads/2025/10/haute-couture-2.jpg
END:VEVENT
END:VCALENDAR