BEGIN:VCALENDAR
VERSION:2.0
PRODID:-//Elena Nahum Leroy - ECPv6.15.20//NONSGML v1.0//EN
CALSCALE:GREGORIAN
METHOD:PUBLISH
X-WR-CALNAME:Elena Nahum Leroy
X-ORIGINAL-URL:https://elenanl.com
X-WR-CALDESC:Events for Elena Nahum Leroy
REFRESH-INTERVAL;VALUE=DURATION:PT1H
X-Robots-Tag:noindex
X-PUBLISHED-TTL:PT1H
BEGIN:VTIMEZONE
TZID:UTC
BEGIN:STANDARD
TZOFFSETFROM:+0000
TZOFFSETTO:+0000
TZNAME:UTC
DTSTART:20230101T000000
END:STANDARD
END:VTIMEZONE
BEGIN:VEVENT
DTSTART;VALUE=DATE:20240819
DTEND;VALUE=DATE:20241216
DTSTAMP:20260425T011124
CREATED:20240809T042948Z
LAST-MODIFIED:20240809T042948Z
UID:20889-1724025600-1734307199@elenanl.com
SUMMARY:OSA Boutique Fall Exhibition
DESCRIPTION:Check my recent jewelry at OSA Boutique near ByWard Market.. That’s a win-win deal. All sales are shared between the artist (me) and the Ottawa School of Arts.
URL:https://elenanl.com/event/osa-boutique-fall-exhibition/
LOCATION:OSA Boutique\, 35 George Street\, Ottawa\, Ontario\, K1N8W5\, Canada
CATEGORIES:Art Show
ATTACH;FMTTYPE=image/jpeg:https://elenanl.com/wp-content/uploads/2024/08/OSA-Boutique-Fall-Exhibition.jpg
END:VEVENT
BEGIN:VEVENT
DTSTART;VALUE=DATE:20240905
DTEND;VALUE=DATE:20241030
DTSTAMP:20260425T011124
CREATED:20240809T045210Z
LAST-MODIFIED:20240819T224525Z
UID:20892-1725494400-1730246399@elenanl.com
SUMMARY:Promenade Arteast
DESCRIPTION:Promenade Arteast is a permanent Gallery Space on the Lower Level of the Shenkman Arts Centre. I’ll be presenting my The King Peacock painting. This oil painting was done in the impressionist style that most of my recent oil and gouache paintings accomplished.
URL:https://elenanl.com/event/promenade-arteast/
LOCATION:Shenkman Arts Centre\, 245 Centrum Blvd\, Orléans\, ON\, K1E 0A1\, Canada
CATEGORIES:Art Show
ATTACH;FMTTYPE=image/jpeg:https://elenanl.com/wp-content/uploads/2024/08/Promenade-September-2024.jpg
END:VEVENT
BEGIN:VEVENT
DTSTART;VALUE=DATE:20240923
DTEND;VALUE=DATE:20250114
DTSTAMP:20260425T011124
CREATED:20240923T000139Z
LAST-MODIFIED:20240923T000139Z
UID:21024-1727049600-1736812799@elenanl.com
SUMMARY:D'OMMA Art Gallery Art Show
DESCRIPTION:Join us for an exciting showcase of mixed-media projects featuring the incredible work of five talented artists from the Ottawa-Gatineau area. This family-friendly event will take place at the Nepean Sportsplex\, where you can immerse yourself in a diverse array of artistic expressions. \nExplore the unique styles and creative techniques of each artist as they present their innovative mixed-media pieces. Whether you’re an art enthusiast or simply looking for a fun outing with the family\, this event promises to inspire and engage visitors of all ages. Don’t miss this opportunity to support local artists and experience the vibrant art scene in our community! We look forward to welcoming you to a day filled with creativity and inspiration.
URL:https://elenanl.com/event/domma-art-gallery-art-show/
LOCATION:D’OMMA Gallery\, 1701 Woodroffe Ave\, Nepean\, ON\, K2G 1W2\, Canada
CATEGORIES:Art Show
ATTACH;FMTTYPE=image/jpeg:https://elenanl.com/wp-content/uploads/2024/09/Omma-Fall-Art-Show-Site.jpg
END:VEVENT
BEGIN:VEVENT
DTSTART;VALUE=DATE:20241017
DTEND;VALUE=DATE:20250116
DTSTAMP:20260425T011124
CREATED:20240923T001622Z
LAST-MODIFIED:20240923T001622Z
UID:21027-1729123200-1736985599@elenanl.com
SUMMARY:Potency
DESCRIPTION:October is Women’s History Month in Canada\, and we are thrilled to invite artists to submit their work for our exhibition titled “Potency.” This theme\, defined as the power to influence or leave a lasting impression\, encourages you to delve into concepts of identity\, narrative\, and the sharing of your personal lived experiences. \nI’ll be presenting 5 of my collages devoted to women and their inner power.
URL:https://elenanl.com/event/potency/
LOCATION:Niche Art Gallery\, 1439 Youville Drive\, Orleans\, ON\, K1C 4M8\, Canada
CATEGORIES:Art Show
ATTACH;FMTTYPE=image/jpeg:https://elenanl.com/wp-content/uploads/2024/09/Niche-email.jpg
END:VEVENT
BEGIN:VEVENT
DTSTART;TZID=UTC:20241026T100000
DTEND;TZID=UTC:20241026T160000
DTSTAMP:20260425T011124
CREATED:20240715T012257Z
LAST-MODIFIED:20240715T012626Z
UID:20709-1729936800-1729958400@elenanl.com
SUMMARY:The Fall Art Show
DESCRIPTION:Come and enjoy the creative world of more than 30 artists from Ottawa and the surroundings that put their work on display for you to see and possibly include in your art collection. \n 
URL:https://elenanl.com/event/the-fall-art-show/
LOCATION:Emmanuel United Church\, 691 Smyth Rd\, Ottawa\, Ontario\, K1G 1N7\, Canada
CATEGORIES:Art Show
ATTACH;FMTTYPE=image/jpeg:https://elenanl.com/wp-content/uploads/2024/07/Fall-art-Show-as.jpg
END:VEVENT
END:VCALENDAR