BEGIN:VCALENDAR
VERSION:2.0
PRODID:-//Elena Nahum Leroy - ECPv6.15.20//NONSGML v1.0//EN
CALSCALE:GREGORIAN
METHOD:PUBLISH
X-ORIGINAL-URL:https://elenanl.com
X-WR-CALDESC:Events for Elena Nahum Leroy
REFRESH-INTERVAL;VALUE=DURATION:PT1H
X-Robots-Tag:noindex
X-PUBLISHED-TTL:PT1H
BEGIN:VTIMEZONE
TZID:UTC
BEGIN:STANDARD
TZOFFSETFROM:+0000
TZOFFSETTO:+0000
TZNAME:UTC
DTSTART:20250101T000000
END:STANDARD
END:VTIMEZONE
BEGIN:VEVENT
DTSTART;VALUE=DATE:20260216
DTEND;VALUE=DATE:20260330
DTSTAMP:20260423T171417
CREATED:20251226T171127Z
LAST-MODIFIED:20260130T004456Z
UID:21935-1771200000-1774828799@elenanl.com
SUMMARY:Intersections
DESCRIPTION:My fresh collages and handmade cards are on display at Art Hub Gallery in Carleton Place.
URL:https://elenanl.com/event/intersections/
LOCATION:Art Hub\, 127 Bridge St\, Carleton Place\, Ontario\, K7C 2V6\, Canada
CATEGORIES:Art Show
ATTACH;FMTTYPE=image/jpeg:https://elenanl.com/wp-content/uploads/2025/12/Intersections.jpg
END:VEVENT
END:VCALENDAR