BEGIN:VCALENDAR
VERSION:2.0
PRODID:-//Elena Nahum Leroy - ECPv6.15.20//NONSGML v1.0//EN
CALSCALE:GREGORIAN
METHOD:PUBLISH
X-ORIGINAL-URL:https://elenanl.com
X-WR-CALDESC:Events for Elena Nahum Leroy
REFRESH-INTERVAL;VALUE=DURATION:PT1H
X-Robots-Tag:noindex
X-PUBLISHED-TTL:PT1H
BEGIN:VTIMEZONE
TZID:UTC
BEGIN:STANDARD
TZOFFSETFROM:+0000
TZOFFSETTO:+0000
TZNAME:UTC
DTSTART:20250101T000000
END:STANDARD
END:VTIMEZONE
BEGIN:VEVENT
DTSTART;VALUE=DATE:20260330
DTEND;VALUE=DATE:20260629
DTSTAMP:20260423T153756
CREATED:20260404T000033Z
LAST-MODIFIED:20260404T000033Z
UID:22154-1774828800-1782691199@elenanl.com
SUMMARY:Whispers of Change
DESCRIPTION:My fresh collages and handmade cards are on display at Art Hub Gallery in Carleton Place.
URL:https://elenanl.com/event/intersections-2/
LOCATION:Art Hub\, 127 Bridge St\, Carleton Place\, Ontario\, K7C 2V6\, Canada
CATEGORIES:Art Show
ATTACH;FMTTYPE=image/jpeg:https://elenanl.com/wp-content/uploads/2026/04/Whispers-of-change.jpg
END:VEVENT
BEGIN:VEVENT
DTSTART;VALUE=DATE:20260502
DTEND;VALUE=DATE:20260504
DTSTAMP:20260423T153756
CREATED:20260216T034746Z
LAST-MODIFIED:20260216T034746Z
UID:22083-1777680000-1777852799@elenanl.com
SUMMARY:Spring Fine Art Show - ACP
DESCRIPTION:An annual juried fine art show and sale offers space for 53 qualifying artists and artisans. Worth to visit and meet the artist\, hanging out and buy some art.
URL:https://elenanl.com/event/spring-fine-art-show-2/
LOCATION:Carleton Place Arena\, 75 Neelin St\, Carleton Place\, ON\, K7C 4H1\, Canada
CATEGORIES:Art Show
ATTACH;FMTTYPE=image/jpeg:https://elenanl.com/wp-content/uploads/2025/03/Spring-art-show.jpg
END:VEVENT
END:VCALENDAR