BEGIN:VCALENDAR
VERSION:2.0
PRODID:-//Elena Nahum Leroy - ECPv6.15.20//NONSGML v1.0//EN
CALSCALE:GREGORIAN
METHOD:PUBLISH
X-WR-CALNAME:Elena Nahum Leroy
X-ORIGINAL-URL:https://elenanl.com
X-WR-CALDESC:Events for Elena Nahum Leroy
REFRESH-INTERVAL;VALUE=DURATION:PT1H
X-Robots-Tag:noindex
X-PUBLISHED-TTL:PT1H
BEGIN:VTIMEZONE
TZID:UTC
BEGIN:STANDARD
TZOFFSETFROM:+0000
TZOFFSETTO:+0000
TZNAME:UTC
DTSTART:20220101T000000
END:STANDARD
END:VTIMEZONE
BEGIN:VTIMEZONE
TZID:America/New_York
BEGIN:DAYLIGHT
TZOFFSETFROM:-0500
TZOFFSETTO:-0400
TZNAME:EDT
DTSTART:20220313T070000
END:DAYLIGHT
BEGIN:STANDARD
TZOFFSETFROM:-0400
TZOFFSETTO:-0500
TZNAME:EST
DTSTART:20221106T060000
END:STANDARD
BEGIN:DAYLIGHT
TZOFFSETFROM:-0500
TZOFFSETTO:-0400
TZNAME:EDT
DTSTART:20230312T070000
END:DAYLIGHT
BEGIN:STANDARD
TZOFFSETFROM:-0400
TZOFFSETTO:-0500
TZNAME:EST
DTSTART:20231105T060000
END:STANDARD
BEGIN:DAYLIGHT
TZOFFSETFROM:-0500
TZOFFSETTO:-0400
TZNAME:EDT
DTSTART:20240310T070000
END:DAYLIGHT
BEGIN:STANDARD
TZOFFSETFROM:-0400
TZOFFSETTO:-0500
TZNAME:EST
DTSTART:20241103T060000
END:STANDARD
BEGIN:DAYLIGHT
TZOFFSETFROM:-0500
TZOFFSETTO:-0400
TZNAME:EDT
DTSTART:20250309T070000
END:DAYLIGHT
BEGIN:STANDARD
TZOFFSETFROM:-0400
TZOFFSETTO:-0500
TZNAME:EST
DTSTART:20251102T060000
END:STANDARD
END:VTIMEZONE
BEGIN:VTIMEZONE
TZID:Asia/Krasnoyarsk
BEGIN:STANDARD
TZOFFSETFROM:+0700
TZOFFSETTO:+0700
TZNAME:+07
DTSTART:20230101T000000
END:STANDARD
END:VTIMEZONE
BEGIN:VTIMEZONE
TZID:Asia/Karachi
BEGIN:STANDARD
TZOFFSETFROM:+0500
TZOFFSETTO:+0500
TZNAME:PKT
DTSTART:20230101T000000
END:STANDARD
END:VTIMEZONE
BEGIN:VEVENT
DTSTART;TZID=UTC:20240727T100000
DTEND;TZID=UTC:20240727T170000
DTSTAMP:20260423T192500
CREATED:20240629T225931Z
LAST-MODIFIED:20240629T225931Z
UID:20651-1722074400-1722099600@elenanl.com
SUMMARY:York Street Market
DESCRIPTION:Visit the ByWard Market to explore 30+ vendors offering handmade goods like home decor\, jewelry\, cider\, spices and more! \nI’ll be there with my new collages.
URL:https://elenanl.com/event/your-street-market-june-23-3/
LOCATION:York Street Market\, York Street\, Ottawa\, Ontario\, K1N 5T4\, Canada
CATEGORIES:Market
ATTACH;FMTTYPE=image/jpeg:https://elenanl.com/wp-content/uploads/2024/06/York-Street-market-3.jpg
END:VEVENT
BEGIN:VEVENT
DTSTART;TZID=UTC:20240720T110000
DTEND;TZID=UTC:20240720T133000
DTSTAMP:20260423T192500
CREATED:20240716T022359Z
LAST-MODIFIED:20240716T022359Z
UID:20722-1721473200-1721482200@elenanl.com
SUMMARY:Summer Zone by NCC
DESCRIPTION:From July to September\, the Summer Zone\, presented by NCC Weekend Bikedays\, takes over the Queen Elizabeth Driveway! With free daily activities ranging from life-size games to musical performances\, the Summer Zone offers loads of fun for all ages. \nThe Summer Zone is divided into three sections\, each with its own unique theme and activities. \nI’ll be there on July 20\, from 11 am to 1.30 pm. Love free art? Come and get it! \nI’ll be painting a vegetable or a fruit by your choice from a reference picture in gouache\, right in front of you. Everything will be done within 15-20 min and will go home with you absolutely free!
URL:https://elenanl.com/event/summer-zone-by-ncc/
LOCATION:Queen Elizabeth Driveway\, Queen Elizabeth Driveway\, Ottawa\, ON\, Canada
CATEGORIES:Entertainment
ATTACH;FMTTYPE=image/jpeg:https://elenanl.com/wp-content/uploads/2024/07/NCC-Zone.jpg
END:VEVENT
BEGIN:VEVENT
DTSTART;TZID=UTC:20240714T100000
DTEND;TZID=UTC:20240714T170000
DTSTAMP:20260423T192500
CREATED:20240629T230355Z
LAST-MODIFIED:20240629T230355Z
UID:20649-1720951200-1720976400@elenanl.com
SUMMARY:York Street Market
DESCRIPTION:This time\, I’ll present my recent jewelry collection: hot enamelled silver pendants and earrings. They are not on this website yet\, so be the first who gets them. All unsold items will be listed on this website in the Jewlery section. \n 
URL:https://elenanl.com/event/york-street-market/
LOCATION:York Street Market\, York Street\, Ottawa\, Ontario\, K1N 5T4\, Canada
CATEGORIES:Market
ATTACH;FMTTYPE=image/jpeg:https://elenanl.com/wp-content/uploads/2024/06/York-Street-market-2.jpg
END:VEVENT
BEGIN:VEVENT
DTSTART;TZID=UTC:20240705T100000
DTEND;TZID=UTC:20240818T190000
DTSTAMP:20260423T192500
CREATED:20240629T224142Z
LAST-MODIFIED:20240629T224142Z
UID:20646-1720173600-1724007600@elenanl.com
SUMMARY:New Beginnings
DESCRIPTION:The inaugural art show at the Arts Carleton Place Art Hub is ‘New Beginnings’. You are invited to visit the Art Hub and explore the art of 34 ACP members showing their work. \nJuly 5 – Sunday\, August 18\, 2024 \nWednesday 10am – 7pm\nThursday 10am – 7pm\nFriday 10am – 7pm\nSaturday 10am – 6pm\nSunday 10am – 6pm
URL:https://elenanl.com/event/new-beginnings/
LOCATION:Art Hub\, 127 Bridge St\, Carleton Place\, Ontario\, K7C 2V6\, Canada
CATEGORIES:Art Show
ATTACH;FMTTYPE=image/jpeg:https://elenanl.com/wp-content/uploads/2024/06/Art-Hub-July.jpg
END:VEVENT
BEGIN:VEVENT
DTSTART;TZID=UTC:20240623T100000
DTEND;TZID=UTC:20240623T170000
DTSTAMP:20260423T192500
CREATED:20240509T034042Z
LAST-MODIFIED:20240509T034132Z
UID:20467-1719136800-1719162000@elenanl.com
SUMMARY:York Street Market\, June 23
DESCRIPTION:Visit the ByWard Market to explore 30+ vendors offering handmade goods like home decor\, jewelry\, cider\, spices and more! \nI’ll be there with my new collages.
URL:https://elenanl.com/event/your-street-market-june-23/
LOCATION:York Street Market\, York Street\, Ottawa\, Ontario\, K1N 5T4\, Canada
CATEGORIES:Market
ATTACH;FMTTYPE=image/jpeg:https://elenanl.com/wp-content/uploads/2024/05/York-Street-market-Events.jpg
END:VEVENT
BEGIN:VEVENT
DTSTART;TZID=UTC:20240622T100000
DTEND;TZID=UTC:20240623T170000
DTSTAMP:20260423T192500
CREATED:20240514T231851Z
LAST-MODIFIED:20240514T231851Z
UID:20496-1719050400-1719162000@elenanl.com
SUMMARY:Sweetly Affordable Art Fair
DESCRIPTION:The Sweetly Affordable Art Fair (SAAF) is an exhibition offering a wide selection of affordable art and artisanal items for visitors to choose from. With most pieces under $1K and many pieces under $50. Come visit over 100 exciting booths\, filled with a wide range of unique artistry! \nYou can find about 20 collages at Arts Carleton Place art association. \nI’m not going to present there in person.
URL:https://elenanl.com/event/sweetly-affordable-art-fair/
LOCATION:Wesley Clover Parks\, 401 Corkstown Rd\, Nepean\, ON\, K2H 8G2\, Canada
CATEGORIES:Art Show
ATTACH;FMTTYPE=image/jpeg:https://elenanl.com/wp-content/uploads/2024/05/Sweetly-Affordable.jpg
END:VEVENT
BEGIN:VEVENT
DTSTART;TZID=UTC:20240608T100000
DTEND;TZID=UTC:20240608T160000
DTSTAMP:20260423T192500
CREATED:20240531T170829Z
LAST-MODIFIED:20240531T170829Z
UID:20529-1717840800-1717862400@elenanl.com
SUMMARY:613FLEA Indoor Market
DESCRIPTION:Saturday\, June 8th\n10am-4pm\nAberdeen Pavilion\nFriendly Dogs Welcome\nAccessible Venue\n150 Vendors.\nFree Admission\n\nI’ll be there with my new collages. This summer is very “hot” with markets and events so most of my recent and not recent collages are on display in many places. Freshly done\, new artwork for any budget.
URL:https://elenanl.com/event/613flea-indoor-market/
LOCATION:Aberdeen Pavillion\, 1000 Exhibition Way\, Ottawa\, ON\, K1S 5J3\, Canada
CATEGORIES:Market
ATTACH;FMTTYPE=image/jpeg:https://elenanl.com/wp-content/uploads/2024/05/613-Flea-Jun-8.jpg
END:VEVENT
BEGIN:VEVENT
DTSTART;VALUE=DATE:20240530
DTEND;VALUE=DATE:20240802
DTSTAMP:20260423T192500
CREATED:20240425T025700Z
LAST-MODIFIED:20240425T025700Z
UID:20375-1717027200-1722556799@elenanl.com
SUMMARY:Limitless Imagination
DESCRIPTION:A small art show at St. Laurent Community Center. I’ll be showing 10 medium-sized works that can be bought via Arteast association during the show and picked up on August 1\, 2024\, when the show is over.
URL:https://elenanl.com/event/limitless-imagination/
LOCATION:St-Laurent Complex\, 525 Côté Street\, Ottawa\, ON\, K1K 0Z8\, Canada
ATTACH;FMTTYPE=image/jpeg:https://elenanl.com/wp-content/uploads/2024/04/Limitless-Imagination.jpg
END:VEVENT
BEGIN:VEVENT
DTSTART;VALUE=DATE:20240518
DTEND;VALUE=DATE:20241002
DTSTAMP:20260423T192500
CREATED:20240629T230523Z
LAST-MODIFIED:20240629T230523Z
UID:20655-1715990400-1727827199@elenanl.com
SUMMARY:Gleam
DESCRIPTION:The Niche Ottawa Gallery aims to encourage you to explore and express the small moments of tranquillity\, optimism\, solace\, or contemplation that you encounter in your daily life through artistic creations. This concept allows for a wide range of artistic interpretations\, encompassing both subtle and profound aspects of the human experience\, hope\, and personal growth. By focusing on this theme\, we provide artists and participants with a chance to contemplate the profound influence that even the tiniest glimmer of positivity or enlightenment can have on our existence. \nOne of my artworks is presented there. Enjoy a cup of coffee and nice company in this artistic space.
URL:https://elenanl.com/event/gleam-2/
LOCATION:Niche Art Gallery\, 1439 Youville Drive\, Orleans\, ON\, K1C 4M8\, Canada
CATEGORIES:Art Show
ATTACH;FMTTYPE=image/jpeg:https://elenanl.com/wp-content/uploads/2024/02/Niche-Gleam.jpg
END:VEVENT
BEGIN:VEVENT
DTSTART;VALUE=DATE:20240516
DTEND;VALUE=DATE:20240817
DTSTAMP:20260423T192500
CREATED:20240509T031303Z
LAST-MODIFIED:20240509T031321Z
UID:20460-1715817600-1723852799@elenanl.com
SUMMARY:Spring OSA Boutique Exposition
DESCRIPTION:Some of my collages and jewelry pieces are available for viewing and sale with OSA Boutique in Downtown Ottawa. I’m not planning to have special art shows dedicated to my jewelry creations until fall\, so it’s a good chance to see (and buy) my creations from 2023. \n 
URL:https://elenanl.com/event/spring-osa-boutique-exposition/
LOCATION:OSA Boutique\, 35 George Street\, Ottawa\, Ontario\, K1N8W5\, Canada
CATEGORIES:Art Show,Market
ATTACH;FMTTYPE=image/jpeg:https://elenanl.com/wp-content/uploads/2024/05/OSA-Events.jpg
END:VEVENT
BEGIN:VEVENT
DTSTART;TZID=UTC:20240511T100000
DTEND;TZID=UTC:20240511T160000
DTSTAMP:20260423T192500
CREATED:20240320T212022Z
LAST-MODIFIED:20240320T212022Z
UID:20226-1715421600-1715443200@elenanl.com
SUMMARY:The Spring Art FESTIVAL
DESCRIPTION:Spring art show festival featuring 30+ local artists displaying their new artwork. \nMy followers will get a chance to see my recent surrealistic oil paintings as well as collages. You can find art for any budget.
URL:https://elenanl.com/event/the-spring-art-festival/
LOCATION:Canterbury Complex\, 2185 Arch St\, Ottawa\, ON\, K1G 2H5\, Canada
CATEGORIES:Art Show
ATTACH;FMTTYPE=image/jpeg:https://elenanl.com/wp-content/uploads/2024/03/Spring-Art-FESTIVAL-Email.jpg
END:VEVENT
BEGIN:VEVENT
DTSTART;VALUE=DATE:20240408
DTEND;VALUE=DATE:20240611
DTSTAMP:20260423T192500
CREATED:20240328T031312Z
LAST-MODIFIED:20240522T210558Z
UID:20263-1712534400-1718063999@elenanl.com
SUMMARY:D’OMMA Gallery Art Show
DESCRIPTION:As a member of OMMA (Ottawa Mixed Media Artists) I’m presenting my acrylic and mixed-media paintings at their Gallery located in Nepean Sportplex with plenty of free parking and many activities happening. \nThere will be 4 artworks on display along with art created by other talented local artists.
URL:https://elenanl.com/event/domma-gallery-art-show-2/
LOCATION:D’OMMA Gallery\, 1701 Woodroffe Ave\, Nepean\, ON\, K2G 1W2\, Canada
CATEGORIES:Art Show
ATTACH;FMTTYPE=image/jpeg:https://elenanl.com/wp-content/uploads/2024/03/OMMA-Art-Gallery.jpg
END:VEVENT
BEGIN:VEVENT
DTSTART;VALUE=DATE:20240322
DTEND;VALUE=DATE:20240515
DTSTAMP:20260423T192500
CREATED:20240214T160358Z
LAST-MODIFIED:20240214T160358Z
UID:20131-1711065600-1715731199@elenanl.com
SUMMARY:Arteast Volunteers' Exhibition
DESCRIPTION:
URL:https://elenanl.com/event/arteast-volunteers-exhibition/
LOCATION:Shenkman Arts Centre\, 245 Centrum Blvd\, Orléans\, ON\, K1E 0A1\, Canada
ATTACH;FMTTYPE=image/jpeg:https://elenanl.com/wp-content/uploads/2024/02/Volunteer.jpg
END:VEVENT
BEGIN:VEVENT
DTSTART;VALUE=DATE:20240317
DTEND;VALUE=DATE:20240530
DTSTAMP:20260423T192500
CREATED:20240405T202546Z
LAST-MODIFIED:20240405T202546Z
UID:20292-1710633600-1717027199@elenanl.com
SUMMARY:2024 Arteast Awards Exhibition
DESCRIPTION:Don’t miss the chance to view this beautiful exhibition at the St-Laurent Complex\, 525 Côté Street\, until May 29\, 2024.
URL:https://elenanl.com/event/2024-arteast-awards-exhibition/
LOCATION:St-Laurent Complex\, 525 Côté Street\, Ottawa\, ON\, K1K 0Z8\, Canada
ATTACH;FMTTYPE=image/jpeg:https://elenanl.com/wp-content/uploads/2024/04/AAE.jpg
END:VEVENT
BEGIN:VEVENT
DTSTART;VALUE=DATE:20240312
DTEND;VALUE=DATE:20240313
DTSTAMP:20260423T192500
CREATED:20240303T015223Z
LAST-MODIFIED:20240303T015559Z
UID:20188-1710201600-1710287999@elenanl.com
SUMMARY:Art and Found Day
DESCRIPTION:What is it about?\nArtists select one or more artworks\, such as paintings\, photographs\, drawings\, handmade items\, or music albums. Each piece is securely packaged and prominently labelled with the hashtag #ArtandFoundDay. An accompanying note inside provides details about the artwork and the artist. The artworks will be distributed within the artists’ communities on March 12th\, 2024. To share your art discovery\, utilize the hashtag #ArtandFoundDay and remember to tag @ArtandFoundDay. \nI’ll leave one of my paintings in Aylmer and post hints and the picture on my IG and FB accounts on March 12. Please\, follow my accounts to see updates: \nhttps://www.facebook.com/elenanahumleroy \nhttps://www.instagram.com/Elenanahumleroy/ \nThe idea of Art and Found was originated by Toronto artist Courtney Senior seven years ago. Before establishing herself in the art market\, Courtney chose to distribute her work for free to find appreciative homes for her creations. She would carefully package her original artworks and place them in various neighbourhoods across Toronto for individuals to discover. Each piece was accompanied by a note stating\, “Hello\, I’m an original abstract painting seeking a caring home. FREE ART #ArtandFound.”
URL:https://elenanl.com/event/art-and-found-day/
LOCATION:Ontario
CATEGORIES:Art Show
ATTACH;FMTTYPE=image/jpeg:https://elenanl.com/wp-content/uploads/2024/03/Art-and-Found-Event.jpg
END:VEVENT
BEGIN:VEVENT
DTSTART;VALUE=DATE:20240301
DTEND;VALUE=DATE:20240401
DTSTAMP:20260423T192500
CREATED:20240306T011147Z
LAST-MODIFIED:20240306T011147Z
UID:20195-1709251200-1711929599@elenanl.com
SUMMARY:March Sale: All Jewelry 25% off plus FREE Shipping
DESCRIPTION:As summer approaches\, I am excited to announce that new jewelry pieces will soon be available. During the summer months\, I focus on creating jewelry by safely soldering\, polishing\, and enamelling pieces outdoors. I have developed new ideas and learned new techniques\, resulting in more intriguing pieces to come. \nMy work is inspired by historical art and artifacts\, with many pieces featuring ancient Roman\, Byzantine\, or Mexican artifacts that I have restored and enamelled. Bold colours are a signature of my art\, both in painting and jewelry. \nTo celebrate the upcoming season\, I am offering a 25% discount and free Canada-wide shipping on all jewelry pieces until March 31\, 2024. Simply use the code MAR2024 at checkout. Thank you for your support and I look forward to sharing my latest creations with you.
URL:https://elenanl.com/event/march-sale-all-jewelry-25-off-plus-free-shipping/
LOCATION:Ontario
CATEGORIES:Sale
ATTACH;FMTTYPE=image/jpeg:https://elenanl.com/wp-content/uploads/2024/03/Mar-2024-Promo.jpg
END:VEVENT
BEGIN:VEVENT
DTSTART;TZID=Asia/Krasnoyarsk:20240227T180000
DTEND;TZID=Asia/Krasnoyarsk:20240227T210000
DTSTAMP:20260423T192500
CREATED:20240221T024353Z
LAST-MODIFIED:20240221T024353Z
UID:20159-1709056800-1709067600@elenanl.com
SUMMARY:Vernissage at Atomic Rooster
DESCRIPTION:Come and see the artwork of 20+ local artists at this amazing place – Atomic Rooster! I’m displaying three collages that were never previously shown in public before. Opening gathering together and vernissage: February 27\, 2024\, 6 – 9 PM 303 Bank Street Ottawa\, Ontario \nThat’s the perfect time to mingle with artists and meet creative souls.
URL:https://elenanl.com/event/vernissage-at-atomic-rooster/
LOCATION:Atomic Rooster\, 303 Bank Street\, Ottawa\, ON\, K2P 1X7\, Canada
CATEGORIES:Vernissage
ATTACH;FMTTYPE=image/jpeg:https://elenanl.com/wp-content/uploads/2024/02/Vernissage-Rooster.jpg
END:VEVENT
BEGIN:VEVENT
DTSTART;VALUE=DATE:20240227
DTEND;VALUE=DATE:20240408
DTSTAMP:20260423T192500
CREATED:20240221T023209Z
LAST-MODIFIED:20240221T023535Z
UID:20155-1708992000-1712534399@elenanl.com
SUMMARY:World Of Art Pt. 5
DESCRIPTION:This art show gathers together many Ottawa-based artists to display their art at a cozy and friendly art bar and restaurant – Atomic Rooster. \nI’m displaying three collages that were never previously shown in public before.
URL:https://elenanl.com/event/world-of-art-pt-5/
LOCATION:Atomic Rooster\, 303 Bank Street\, Ottawa\, ON\, K2P 1X7\, Canada
CATEGORIES:Art Show
ATTACH;FMTTYPE=image/jpeg:https://elenanl.com/wp-content/uploads/2024/02/Atomic-Rooster-small.jpg
END:VEVENT
BEGIN:VEVENT
DTSTART;TZID=UTC:20240224T100000
DTEND;TZID=UTC:20240224T160000
DTSTAMP:20260423T192500
CREATED:20240209T014147Z
LAST-MODIFIED:20240209T014230Z
UID:20102-1708768800-1708790400@elenanl.com
SUMMARY:613 Flea Market
DESCRIPTION:Feb 24\, 2024\, from 10 am to 4 pm\nAberdeen Pavilion \nFree admission\nShop from over 150 local vendors
URL:https://elenanl.com/event/flea-613/
LOCATION:Aberdeen Pavillion\, 1000 Exhibition Way\, Ottawa\, ON\, K1S 5J3\, Canada
CATEGORIES:Market
ATTACH;FMTTYPE=image/jpeg:https://elenanl.com/wp-content/uploads/2024/02/Flea-613-email.jpg
END:VEVENT
BEGIN:VEVENT
DTSTART;VALUE=DATE:20240223
DTEND;VALUE=DATE:20240427
DTSTAMP:20260423T192500
CREATED:20240214T160106Z
LAST-MODIFIED:20240227T040255Z
UID:20127-1708646400-1714175999@elenanl.com
SUMMARY:Festivity
DESCRIPTION:My solo art show features collages that aim to evoke festivity\, happiness\, and positive emotions. \n 
URL:https://elenanl.com/event/festivity/
LOCATION:Blackburn Hamlet Library\, 199 Glen Park\, Ottawa\, ON\, K1B 5B8\, Canada
CATEGORIES:Art Show
ATTACH;FMTTYPE=image/jpeg:https://elenanl.com/wp-content/uploads/2024/02/Blackburn-Hamlet.jpg
END:VEVENT
BEGIN:VEVENT
DTSTART;VALUE=DATE:20240218
DTEND;VALUE=DATE:20240518
DTSTAMP:20260423T192500
CREATED:20240209T020757Z
LAST-MODIFIED:20240209T020757Z
UID:20108-1708214400-1715990399@elenanl.com
SUMMARY:Gleam
DESCRIPTION:The Niche Ottawa Gallery aims to encourage you to explore and express the small moments of tranquillity\, optimism\, solace\, or contemplation that you encounter in your daily life through artistic creations. This concept allows for a wide range of artistic interpretations\, encompassing both subtle and profound aspects of the human experience\, hope\, and personal growth. By focusing on this theme\, we provide artists and participants with a chance to contemplate the profound influence that even the tiniest glimmer of positivity or enlightenment can have on our existence. \nOne of my artworks is presented there. Enjoy a cup of coffee and nice company in this artistic space.
URL:https://elenanl.com/event/gleam/
LOCATION:Niche Art Gallery\, 1439 Youville Drive\, Orleans\, ON\, K1C 4M8\, Canada
CATEGORIES:Art Show
ATTACH;FMTTYPE=image/jpeg:https://elenanl.com/wp-content/uploads/2024/02/Niche-Gleam.jpg
END:VEVENT
BEGIN:VEVENT
DTSTART;TZID=UTC:20240210T103000
DTEND;TZID=UTC:20240210T150000
DTSTAMP:20260423T192500
CREATED:20240104T170606Z
LAST-MODIFIED:20240104T170606Z
UID:20025-1707561000-1707577200@elenanl.com
SUMMARY:Be My Valentine Market
DESCRIPTION:Feb 10\, 2024\, from 10.30 am to 3 pm\nThe Glebe Community Center\n175 Third Avenue\, Ottawa\, ON \nFree admission\nShop from over 40 local vendors
URL:https://elenanl.com/event/be-my-valentine-market/
LOCATION:Glebe Community Center\, 175 Third Avenue\, Ottawa\, Ontario\, K1S 2K2\, Canada
CATEGORIES:Market
ATTACH;FMTTYPE=image/jpeg:https://elenanl.com/wp-content/uploads/2024/01/Glebe-Email.jpg
END:VEVENT
BEGIN:VEVENT
DTSTART;VALUE=DATE:20240116
DTEND;VALUE=DATE:20240409
DTSTAMP:20260423T192500
CREATED:20240114T002735Z
LAST-MODIFIED:20240226T023219Z
UID:20048-1705363200-1712620799@elenanl.com
SUMMARY:D’OMMA Gallery Art Show
DESCRIPTION:As a member of OMMA (Ottawa Mixed Media Artists) I’m presenting my acrylic and mixed-media paintings at their Gallery located in Nepean Sportplex with plenty of free parking and many activities happening. \nThere will be 4 artworks on display along with art created by other talented local artists.
URL:https://elenanl.com/event/domma-gallery-art-show/
LOCATION:D’OMMA Gallery\, 1701 Woodroffe Ave\, Nepean\, ON\, K2G 1W2\, Canada
CATEGORIES:Art Show
ATTACH;FMTTYPE=image/jpeg:https://elenanl.com/wp-content/uploads/2024/01/DOMMA-Gallery-Art-Show.jpg
END:VEVENT
BEGIN:VEVENT
DTSTART;VALUE=DATE:20240115
DTEND;VALUE=DATE:20240301
DTSTAMP:20260423T192500
CREATED:20231223T223114Z
LAST-MODIFIED:20231223T223114Z
UID:19974-1705276800-1709251199@elenanl.com
SUMMARY:The Transformations
DESCRIPTION:That’s my solo art show in the casual atmosphere of Art Cafe. Come and enjoy healthy meals while looking around at my recent is-sized collages. You can purchase them on site of from my web-site.
URL:https://elenanl.com/event/the-transformations/
LOCATION:Good Eats Cafe\, 207 Bell St N\, Ottawa\, ON\, K1R 5B8\, Canada
ATTACH;FMTTYPE=image/jpeg:https://elenanl.com/wp-content/uploads/2023/12/Transformation.jpg
END:VEVENT
BEGIN:VEVENT
DTSTART;TZID=Asia/Karachi:20240112T190000
DTEND;TZID=Asia/Karachi:20240112T220000
DTSTAMP:20260423T192500
CREATED:20231223T221139Z
LAST-MODIFIED:20231223T222225Z
UID:19955-1705086000-1705096800@elenanl.com
SUMMARY:Art Battle Ottawa
DESCRIPTION:Good music\, great company\, & teams of Artists stepping up to the easel and putting their skills to the test in 3 fast-paced rounds. \nJoin us for an epic art showdown where creativity knows no bounds! Watch as masterful artists craft stunning masterpieces in just 20 minutes per round. \nWatch the creative process unfold before your eyes and help vote for the Winner; it’s a sizzling experience of creation and community! \nBe part of the decision-making process and vote for the ultimate champion. And don’t miss your chance to own a piece of the action with the silent auction of all original works! \nThis is an All Ages event. \nVote for me! >> \nPurchase a ticket >> \nDiscount tickets\, use code: ELENA at 20% off (up to 10 people)
URL:https://elenanl.com/event/art-battle-ottawa/
LOCATION:Overflow Brewing\, 2477 Kaladar Ave\, Ottawa\, ON\, K1V 8B9\, Canada
CATEGORIES:Entertainment
ATTACH;FMTTYPE=image/jpeg:https://elenanl.com/wp-content/uploads/2023/12/Art-Battle.jpg
END:VEVENT
BEGIN:VEVENT
DTSTART;VALUE=DATE:20240108
DTEND;VALUE=DATE:20240305
DTSTAMP:20260423T192500
CREATED:20231223T222713Z
LAST-MODIFIED:20231223T222713Z
UID:19968-1704672000-1709596799@elenanl.com
SUMMARY:Imageries
DESCRIPTION:Come to this art show to see my six recent 3D paintings I’ve never exhibited before and to enjoy artwork by other three artists.
URL:https://elenanl.com/event/imageries/
LOCATION:François Dupuis Recreation Centre\, 2263 Portobello Blvd.\, Ottawa\, ON\, K4A 0X3\, Canada
CATEGORIES:Art Show
ATTACH;FMTTYPE=image/jpeg:https://elenanl.com/wp-content/uploads/2023/12/Imageeries.jpg
END:VEVENT
BEGIN:VEVENT
DTSTART;VALUE=DATE:20231201
DTEND;VALUE=DATE:20240201
DTSTAMP:20260423T192500
CREATED:20231223T223535Z
LAST-MODIFIED:20231223T223535Z
UID:19976-1701388800-1706745599@elenanl.com
SUMMARY:Christmas SALE
DESCRIPTION:Most of my big paintings are on sale and discounts are quite material. That’s the best price I’ve ever offered on these works and they will never be on such a massive sale anymore. \nOffer valid until Jan 31\, 2024
URL:https://elenanl.com/event/christmas-sale/
LOCATION:Ontario
CATEGORIES:Sale
ATTACH;FMTTYPE=image/jpeg:https://elenanl.com/wp-content/uploads/2023/12/SALE.jpg
END:VEVENT
BEGIN:VEVENT
DTSTART;VALUE=DATE:20231120
DTEND;VALUE=DATE:20240218
DTSTAMP:20260423T192500
CREATED:20231223T220354Z
LAST-MODIFIED:20240114T233536Z
UID:19952-1700438400-1708214399@elenanl.com
SUMMARY:Printed Impressions
DESCRIPTION:The Niche Ottawa Gallery is thrilled to present an exhibition that delves into the captivating realm of Printmaking. This showcase highlights the exceptional skills of talented artists from Ottawa\, who have come together to explore a diverse range of Printmaking techniques and artistic expressions. Prepare to embark on a captivating journey that pushes the boundaries of what Printmaking can achieve\, immersing yourself in a world of endless possibilities. \nMy recent six framed lino prints are presented there. Enjoy a cup of coffee and nice company in this artistic space.
URL:https://elenanl.com/event/printed-impressions/
LOCATION:Niche Art Gallery\, 1439 Youville Drive\, Orleans\, ON\, K1C 4M8\, Canada
CATEGORIES:Art Show
ATTACH;FMTTYPE=image/jpeg:https://elenanl.com/wp-content/uploads/2023/12/Niche-Gallery-Lino-site.jpg
END:VEVENT
END:VCALENDAR