BEGIN:VCALENDAR
VERSION:2.0
PRODID:-//Elena Nahum Leroy - ECPv6.15.20//NONSGML v1.0//EN
CALSCALE:GREGORIAN
METHOD:PUBLISH
X-WR-CALNAME:Elena Nahum Leroy
X-ORIGINAL-URL:https://elenanl.com
X-WR-CALDESC:Events for Elena Nahum Leroy
REFRESH-INTERVAL;VALUE=DURATION:PT1H
X-Robots-Tag:noindex
X-PUBLISHED-TTL:PT1H
BEGIN:VTIMEZONE
TZID:UTC
BEGIN:STANDARD
TZOFFSETFROM:+0000
TZOFFSETTO:+0000
TZNAME:UTC
DTSTART:20230101T000000
END:STANDARD
END:VTIMEZONE
BEGIN:VEVENT
DTSTART;TZID=UTC:20241130T090000
DTEND;TZID=UTC:20241130T140000
DTSTAMP:20260425T004340
CREATED:20241115T181915Z
LAST-MODIFIED:20241115T181915Z
UID:21167-1732957200-1732975200@elenanl.com
SUMMARY:Lord Aylmer Christmas Bazaar 2024
DESCRIPTION:Pancake Breakfast 9 – 11 am \nChili Lunch 11 am – 2 pm \nBaked goods – all day \n30 local vendors\, including young entrepreneurs
URL:https://elenanl.com/event/lord-aylmer-christmas-bazaar-2024/
LOCATION:Lord Aylmer School\, Senior Campus\, 116 chemin Frank Robinson\, Gatineau\, QC\, J9H 4A6\, Canada
CATEGORIES:Market
ATTACH;FMTTYPE=image/jpeg:https://elenanl.com/wp-content/uploads/2024/11/Lord-Aylmer-Christmas-Bazaar-2024.jpg
END:VEVENT
END:VCALENDAR