BEGIN:VCALENDAR
VERSION:2.0
PRODID:-//Elena Nahum Leroy - ECPv6.15.20//NONSGML v1.0//EN
CALSCALE:GREGORIAN
METHOD:PUBLISH
X-ORIGINAL-URL:https://elenanl.com
X-WR-CALDESC:Events for Elena Nahum Leroy
REFRESH-INTERVAL;VALUE=DURATION:PT1H
X-Robots-Tag:noindex
X-PUBLISHED-TTL:PT1H
BEGIN:VTIMEZONE
TZID:UTC
BEGIN:STANDARD
TZOFFSETFROM:+0000
TZOFFSETTO:+0000
TZNAME:UTC
DTSTART:20230101T000000
END:STANDARD
END:VTIMEZONE
BEGIN:VEVENT
DTSTART;TZID=UTC:20241207T090000
DTEND;TZID=UTC:20241207T150000
DTSTAMP:20260425T004508
CREATED:20241115T180746Z
LAST-MODIFIED:20241115T180746Z
UID:21160-1733562000-1733583600@elenanl.com
SUMMARY:Cumberland Christmas Market 2024
DESCRIPTION:Four locations host more than 100 vendors.
URL:https://elenanl.com/event/cumberland-christmas-market-2024/
LOCATION:R.J. Kennedy Arena\, 1115 Dunning Rd\, Cumberland\, Ontario\, K4C 1P6\, Canada
CATEGORIES:Market
ATTACH;FMTTYPE=image/jpeg:https://elenanl.com/wp-content/uploads/2024/11/Cumberland-Christmas-Market-2024.jpg
ORGANIZER;CN="Cumberland Farmers' Market":MAILTO:info@cumberlandfarmersmarket.ca
END:VEVENT
END:VCALENDAR