BEGIN:VCALENDAR
VERSION:2.0
PRODID:-//Elena Nahum Leroy - ECPv6.15.20//NONSGML v1.0//EN
CALSCALE:GREGORIAN
METHOD:PUBLISH
X-ORIGINAL-URL:https://elenanl.com
X-WR-CALDESC:Events for Elena Nahum Leroy
REFRESH-INTERVAL;VALUE=DURATION:PT1H
X-Robots-Tag:noindex
X-PUBLISHED-TTL:PT1H
BEGIN:VTIMEZONE
TZID:UTC
BEGIN:STANDARD
TZOFFSETFROM:+0000
TZOFFSETTO:+0000
TZNAME:UTC
DTSTART:20230101T000000
END:STANDARD
END:VTIMEZONE
BEGIN:VEVENT
DTSTART;VALUE=DATE:20240227
DTEND;VALUE=DATE:20240408
DTSTAMP:20260425T113227
CREATED:20240221T023209Z
LAST-MODIFIED:20240221T023535Z
UID:20155-1708992000-1712534399@elenanl.com
SUMMARY:World Of Art Pt. 5
DESCRIPTION:This art show gathers together many Ottawa-based artists to display their art at a cozy and friendly art bar and restaurant – Atomic Rooster. \nI’m displaying three collages that were never previously shown in public before.
URL:https://elenanl.com/event/world-of-art-pt-5/
LOCATION:Atomic Rooster\, 303 Bank Street\, Ottawa\, ON\, K2P 1X7\, Canada
CATEGORIES:Art Show
ATTACH;FMTTYPE=image/jpeg:https://elenanl.com/wp-content/uploads/2024/02/Atomic-Rooster-small.jpg
END:VEVENT
END:VCALENDAR